Workbook

Sheet Calculo ahorro
A2: Salario mensual | C2: Si es en 14 pagas colocalo aquí tu salario mensual para calcularlo:
A3: Ahorro mínimo recomendado: | B3: =B2*0.2 -> 0 | C3: tu salario mensual si tienes 14 pagas es: | D3: =D2*14/12 -> 0
A4: Ahorro anual: | B4: =B3*12 -> 0
A6: Rellena solo las casillas de este color

Sheet Mi cartera 
A2: Nombre | B2: ISIN | C2: Peso estratégico | D2: Capital | E2: Peso actual | F2: Capital estratégico | G2: Rebalanceo
D3: 0 | E3: =Tabla1[[#This Row],[Capital]]/D13 -> #DIV/0! | F3: =D13*Tabla1[[#This Row],[Peso estratégico]] -> 0 | G3: =Tabla1[[#This Row],[Capital estratégico]]-Tabla1[[#This Row],[Capital]] -> 0
D4: 0 | E4: =Tabla1[[#This Row],[Capital]]/D13 -> #DIV/0! | F4: =D13*Tabla1[[#This Row],[Peso estratégico]] -> 0 | G4: =Tabla1[[#This Row],[Capital estratégico]]-Tabla1[[#This Row],[Capital]] -> 0
D5: 0 | E5: =Tabla1[[#This Row],[Capital]]/D13 -> #DIV/0! | F5: =D13*Tabla1[[#This Row],[Peso estratégico]] -> 0 | G5: =Tabla1[[#This Row],[Capital estratégico]]-Tabla1[[#This Row],[Capital]] -> 0
D6: 0 | E6: =Tabla1[[#This Row],[Capital]]/D13 -> #DIV/0! | F6: =D13*Tabla1[[#This Row],[Peso estratégico]] -> 0 | G6: =Tabla1[[#This Row],[Capital estratégico]]-Tabla1[[#This Row],[Capital]] -> 0
E7: =Tabla1[[#This Row],[Capital]]/D13 -> #DIV/0! | F7: =D13*Tabla1[[#This Row],[Peso estratégico]] -> 0 | G7: =Tabla1[[#This Row],[Capital estratégico]]-Tabla1[[#This Row],[Capital]] -> 0
E8: =Tabla1[[#This Row],[Capital]]/D13 -> #DIV/0! | F8: =D13*Tabla1[[#This Row],[Peso estratégico]] -> 0 | G8: =Tabla1[[#This Row],[Capital estratégico]]-Tabla1[[#This Row],[Capital]] -> 0
D9: 0 | E9: =Tabla1[[#This Row],[Capital]]/D13 -> #DIV/0! | F9: =D13*Tabla1[[#This Row],[Peso estratégico]] -> 0 | G9: =Tabla1[[#This Row],[Capital estratégico]]-Tabla1[[#This Row],[Capital]] -> 0
E10: =Tabla1[[#This Row],[Capital]]/D13 -> #DIV/0! | F10: =D13*Tabla1[[#This Row],[Peso estratégico]] -> 0 | G10: =Tabla1[[#This Row],[Capital estratégico]]-Tabla1[[#This Row],[Capital]] -> 0
E11: =Tabla1[[#This Row],[Capital]]/D13 -> #DIV/0! | F11: =D13*Tabla1[[#This Row],[Peso estratégico]] -> 0 | G11: =Tabla1[[#This Row],[Capital estratégico]]-Tabla1[[#This Row],[Capital]] -> 0
E12: =Tabla1[[#This Row],[Capital]]/D13 -> #DIV/0! | F12: =D13*Tabla1[[#This Row],[Peso estratégico]] -> 0 | G12: =Tabla1[[#This Row],[Capital estratégico]]-Tabla1[[#This Row],[Capital]] -> 0
A13: TOTAL | C13: =SUBTOTAL(109,C3:C12) -> 0 | D13: =SUBTOTAL(109,D3:D12) -> 0 | E13: =SUBTOTAL(109,E3:E12) -> #DIV/0! | F13: =C23*Tabla1[[#This Row],[Peso estratégico]] -> 0 | G13: =Tabla1[[#This Row],[Capital estratégico]]-Tabla1[[#This Row],[Capital]] -> 0
A15: Este código de colores te servirá para saber usar la tabla | B15: En la sección de la web CARTERAS tendrás modelos de carteras con su explicación, y la de cada fondo, para poder hacerte una a medida
A16: Copia y pega los fondos que eligas de la sección carteras en mi web | B16: Calculadora de ponderaciones
A17: Aquí escribe el dinero que tienes invertido en cada fondo | B17: Capital total | C17: % elegido | D17: Capital resultante
A18: elige el porcentage que va a ocupar el fondo en tu cartera | D18: =B18*C18 -> 0

Sheet Seguimiento anual
A1: Año | B1: Mes | C1: Aportaciones (mes) | D1: Ap. Acumuladas | E1: Total cartera | F1: Beneficios (mes) | G1: Rentabilidad (mes) | H1: Beneficios acumulados | I1: R. anual | J1: R. Media | K1: R. Total | L1: MSCI World | M1: Rent. World
A2: 2026 | B2: Enero | D2: =C2 -> 0 | F2: =H2 -> 0 | G2: =(E2-D2)/D2 -> #DIV/0! | H2: =E2-D2 -> 0
B3: Febrero | D3: =D2+C3 -> 0 | F3: =E3-E2-C3 -> 0 | G3: =(E3-D3)/D3 -> #DIV/0! | H3: =E3-D3 -> 0
B4: Marzo | D4: =D3+C4 -> 0 | F4: =E4-E3-C4 -> 0 | G4: =(E4-D4)/D4 -> #DIV/0! | H4: =E4-D4 -> 0
B5: Abril | D5: =D4+C5 -> 0 | F5: =E5-E4-C5 -> 0 | G5: =(E5-D5)/D5 -> #DIV/0! | H5: =E5-D5 -> 0 | O5: Solo rellenar las casillas de este color
B6: Mayo | D6: =D5+C6 -> 0 | F6: =E6-E5-C6 -> 0 | G6: =(E6-D6)/D6 -> #DIV/0! | H6: =E6-D6 -> 0
B7: Junio | D7: =D6+C7 -> 0 | F7: =E7-E6-C7 -> 0 | G7: =(E7-D7)/D7 -> #DIV/0! | H7: =E7-D7 -> 0
B8: Julio | D8: =D7+C8 -> 0 | F8: =E8-E7-C8 -> 0 | G8: =(E8-D8)/D8 -> #DIV/0! | H8: =E8-D8 -> 0
B9: Agosto | D9: =D8+C9 -> 0 | F9: =E9-E8-C9 -> 0 | G9: =(E9-D9)/D9 -> #DIV/0! | H9: =E9-D9 -> 0
B10: Septiembre | D10: =D9+C10 -> 0 | F10: =E10-E9-C10 -> 0 | G10: =(E10-D10)/D10 -> #DIV/0! | H10: =E10-D10 -> 0
B11: Octubre | D11: =D10+C11 -> 0 | F11: =E11-E10-C11 -> 0 | G11: =(E11-D11)/D11 -> #DIV/0! | H11: =E11-D11 -> 0
B12: Noviembre | D12: =D11+C12 -> 0 | F12: =E12-E11-C12 -> 0 | G12: =(E12-D12)/D12 -> #DIV/0! | H12: =E12-D12 -> 0
B13: Diciembre | D13: =D12+C13 -> 0 | F13: =E13-E12-C13 -> 0 | G13: =(E13-D13)/D13 -> #DIV/0! | H13: =E13-D13 -> 0 | I13: =G13 -> #DIV/0! | J13: =H13/D13 -> #DIV/0! | K13: =H13/D13 -> #DIV/0! | M13: =(L13-L2)/L2 -> #DIV/0!
A14: 2027 | B14: Enero | D14: =D13+C14 -> 0 | F14: =E14-E13-C14 -> 0 | G14: =(E14-D14)/D14 -> #DIV/0! | H14: =E14-D14 -> 0
B15: Febrero | D15: =D14+C15 -> 0 | F15: =E15-E14-C15 -> 0 | G15: =(E15-D15)/D15 -> #DIV/0! | H15: =E15-D15 -> 0
B16: Marzo | D16: =D15+C16 -> 0 | F16: =E16-E15-C16 -> 0 | G16: =(E16-D16)/D16 -> #DIV/0! | H16: =E16-D16 -> 0
B17: Abril | D17: =D16+C17 -> 0 | F17: =E17-E16-C17 -> 0 | G17: =(E17-D17)/D17 -> #DIV/0! | H17: =E17-D17 -> 0
B18: Mayo | D18: =D17+C18 -> 0 | F18: =E18-E17-C18 -> 0 | G18: =(E18-D18)/D18 -> #DIV/0! | H18: =E18-D18 -> 0
B19: Junio | D19: =D18+C19 -> 0 | F19: =E19-E18-C19 -> 0 | G19: =(E19-D19)/D19 -> #DIV/0! | H19: =E19-D19 -> 0
B20: Julio | D20: =D19+C20 -> 0 | F20: =E20-E19-C20 -> 0 | G20: =(E20-D20)/D20 -> #DIV/0! | H20: =E20-D20 -> 0
B21: Agosto | D21: =D20+C21 -> 0 | F21: =E21-E20-C21 -> 0 | G21: =(E21-D21)/D21 -> #DIV/0! | H21: =E21-D21 -> 0
B22: Septiembre | D22: =D21+C22 -> 0 | F22: =E22-E21-C22 -> 0 | G22: =(E22-D22)/D22 -> #DIV/0! | H22: =E22-D22 -> 0
B23: Octubre | D23: =D22+C23 -> 0 | F23: =E23-E22-C23 -> 0 | G23: =(E23-D23)/D23 -> #DIV/0! | H23: =E23-D23 -> 0
B24: Noviembre | D24: =D23+C24 -> 0 | F24: =E24-E23-C24 -> 0 | G24: =(E24-D24)/D24 -> #DIV/0! | H24: =E24-D24 -> 0
B25: Diciembre | D25: =D24+C25 -> 0 | F25: =E25-E24-C25 -> 0 | G25: =(E25-D25)/D25 -> #DIV/0! | H25: =E25-D25 -> 0 | I25: =G25 -> #DIV/0! | J25: =H25/D25/2 -> #DIV/0! | K25: =H25/D25 -> #DIV/0! | M25: =(L25-L13)/L13 -> #DIV/0!
A26: 2028 | B26: Enero | D26: =D25+C26 -> 0 | F26: =E26-E25-C26 -> 0 | G26: =(E26-D26)/D26 -> #DIV/0! | H26: =E26-D26 -> 0
B27: Febrero | D27: =D26+C27 -> 0 | F27: =E27-E26-C27 -> 0 | G27: =(E27-D27)/D27 -> #DIV/0! | H27: =E27-D27 -> 0
B28: Marzo | D28: =C28 -> 0 | F28: =H28 -> 0 | G28: =(E28-D28)/D28 -> #DIV/0! | H28: =E28-D28 -> 0
B29: Abril | D29: =D28+C29 -> 0 | F29: =E29-E28-C29 -> 0 | G29: =(E29-D29)/D29 -> #DIV/0! | H29: =E29-D29 -> 0
B30: Mayo | D30: =D29+C30 -> 0 | F30: =E30-E29-C30 -> 0 | G30: =(E30-D30)/D30 -> #DIV/0! | H30: =E30-D30 -> 0
B31: Junio | D31: =D30+C31 -> 0 | F31: =E31-E30-C31 -> 0 | G31: =(E31-D31)/D31 -> #DIV/0! | H31: =E31-D31 -> 0
B32: Julio | D32: =D31+C32 -> 0 | F32: =E32-E31-C32 -> 0 | G32: =(E32-D32)/D32 -> #DIV/0! | H32: =E32-D32 -> 0
B33: Agosto | D33: =D32+C33 -> 0 | F33: =E33-E32-C33 -> 0 | G33: =(E33-D33)/D33 -> #DIV/0! | H33: =E33-D33 -> 0
B34: Septiembre | D34: =D33+C34 -> 0 | F34: =E34-E33-C34 -> 0 | G34: =(E34-D34)/D34 -> #DIV/0! | H34: =E34-D34 -> 0
B35: Octubre | D35: =D34+C35 -> 0 | F35: =E35-E34-C35 -> 0 | G35: =(E35-D35)/D35 -> #DIV/0! | H35: =E35-D35 -> 0
B36: Noviembre | D36: =D35+C36 -> 0 | F36: =E36-E35-C36 -> 0 | G36: =(E36-D36)/D36 -> #DIV/0! | H36: =E36-D36 -> 0
B37: Diciembre | D37: =D36+C37 -> 0 | F37: =E37-E36-C37 -> 0 | G37: =(E37-D37)/D37 -> #DIV/0! | H37: =E37-D37 -> 0 | I37: =G37 -> #DIV/0! | J37: =H37/D37/3 -> #DIV/0! | K37: =H37/D37 -> #DIV/0! | M37: =(L37-L25)/L25 -> #DIV/0!
A38: 2029 | B38: Enero | D38: =D37+C38 -> 0 | F38: =E38-E37-C38 -> 0 | G38: =(E38-D38)/D38 -> #DIV/0! | H38: =E38-D38 -> 0
B39: Febrero | D39: =D38+C39 -> 0 | F39: =E39-E38-C39 -> 0 | G39: =(E39-D39)/D39 -> #DIV/0! | H39: =E39-D39 -> 0
B40: Marzo | D40: =D39+C40 -> 0 | F40: =E40-E39-C40 -> 0 | G40: =(E40-D40)/D40 -> #DIV/0! | H40: =E40-D40 -> 0
...

Sheet Mi cartera VS World
A1: Año | B1: Mi cartera | C1: MSCI World
A2: 2026 | B2: ='Seguimiento anual'!I13 -> #DIV/0! | C2: ='Seguimiento anual'!M13 -> #DIV/0!
A3: 2027 | B3: ='Seguimiento anual'!I25 -> #DIV/0! | C3: ='Seguimiento anual'!M25 -> #DIV/0!
A4: 2028 | B4: ='Seguimiento anual'!I37 -> #DIV/0! | C4: ='Seguimiento anual'!M37 -> #DIV/0!
A5: 2029 | B5: ='Seguimiento anual'!I49 -> #DIV/0! | C5: ='Seguimiento anual'!M49 -> #DIV/0!
A6: 2030 | B6: ='Seguimiento anual'!I61 -> #DIV/0! | C6: ='Seguimiento anual'!M61 -> #DIV/0!
A7: 2031 | B7: ='Seguimiento anual'!I73 -> #DIV/0! | C7: ='Seguimiento anual'!M73 -> #DIV/0!
A8: 2032 | B8: ='Seguimiento anual'!I85 -> #DIV/0! | C8: ='Seguimiento anual'!M85 -> #DIV/0!
A9: 2033 | B9: ='Seguimiento anual'!I97 -> #DIV/0! | C9: ='Seguimiento anual'!M97 -> #DIV/0!
A10: 2034 | B10: ='Seguimiento anual'!I109 -> #DIV/0! | C10: ='Seguimiento anual'!M109 -> #DIV/0!
A11: 2035 | B11: ='Seguimiento anual'!I121 -> #DIV/0! | C11: ='Seguimiento anual'!M121 -> #DIV/0!
A12: 2036 | B12: ='Seguimiento anual'!I133 -> #DIV/0! | C12: ='Seguimiento anual'!M133 -> #DIV/0!
A13: 2037 | B13: ='Seguimiento anual'!I145 -> #DIV/0! | C13: ='Seguimiento anual'!M145 -> #DIV/0!
A14: 2038 | B14: ='Seguimiento anual'!I157 -> #DIV/0! | C14: ='Seguimiento anual'!M157 -> #DIV/0!
A15: 2039 | B15: ='Seguimiento anual'!I169 -> #DIV/0! | C15: ='Seguimiento anual'!M169 -> #DIV/0!
A16: 2040 | B16: ='Seguimiento anual'!I181 -> #DIV/0! | C16: ='Seguimiento anual'!M181 -> #DIV/0!
A17: 2041 | B17: ='Seguimiento anual'!I193 -> #DIV/0! | C17: ='Seguimiento anual'!M193 -> #DIV/0!
A18: 2042 | B18: ='Seguimiento anual'!I205 -> #DIV/0! | C18: ='Seguimiento anual'!M205 -> #DIV/0!
A19: 2043 | B19: ='Seguimiento anual'!I217 -> #DIV/0! | C19: ='Seguimiento anual'!M217 -> #DIV/0!
A20: 2044 | B20: ='Seguimiento anual'!I229 -> #DIV/0! | C20: ='Seguimiento anual'!M229 -> #DIV/0!
A21: 2045 | B21: ='Seguimiento anual'!I241 -> #DIV/0! | C21: ='Seguimiento anual'!M241 -> #DIV/0!
A22: 2046 | B22: ='Seguimiento anual'!I253 -> #DIV/0! | C22: ='Seguimiento anual'!M253 -> #DIV/0!
A23: 2047 | B23: ='Seguimiento anual'!I265 -> #DIV/0! | C23: ='Seguimiento anual'!M265 -> #DIV/0!
A24: 2048 | B24: ='Seguimiento anual'!I277 -> #DIV/0! | C24: ='Seguimiento anual'!M277 -> #DIV/0!
A25: 2049 | B25: ='Seguimiento anual'!I289 -> #DIV/0! | C25: ='Seguimiento anual'!M289 -> #DIV/0!
A26: 2050 | B26: ='Seguimiento anual'!I301 -> #DIV/0! | C26: ='Seguimiento anual'!M301 -> #DIV/0!
A27: 2051 | B27: ='Seguimiento anual'!I313 -> #DIV/0! | C27: ='Seguimiento anual'!M313 -> #DIV/0!
A28: 2052 | B28: ='Seguimiento anual'!I325 -> #DIV/0! | C28: ='Seguimiento anual'!M325 -> #DIV/0!
A29: 2053 | B29: ='Seguimiento anual'!I337 -> #DIV/0! | C29: ='Seguimiento anual'!M337 -> #DIV/0!
A30: 2054 | B30: ='Seguimiento anual'!I349 -> #DIV/0! | C30: ='Seguimiento anual'!M349 -> #DIV/0!
A31: 2055 | B31: ='Seguimiento anual'!I361 -> #DIV/0! | C31: ='Seguimiento anual'!M361 -> #DIV/0!
